BEGIN:VCALENDAR
VERSION:2.0
PRODID:-//destination.one//NONSGML destination.meta API//DE
X-WR-CALDESC:A calendar powered by destination.meta
X-WR-CALNAME:coburg-rennsteig Kalender via destination.meta
BEGIN:VEVENT
CATEGORIES:Familien
CATEGORIES:Feste und Brauchtum
CATEGORIES:Highlights
CATEGORIES:Märkte
CATEGORIES:Unterhaltung
DESCRIPTION:07.06.2026\n\nmehr Informationen unter http://pages.destination
 .one/de/coburg-rennsteig/streaming/detail/Event/coburgrennsteigevent_5143/
 j-gerfest
DTEND;TZID=Europe/Berlin:20260607T180000
DTSTAMP:20260421T082321Z
DTSTART;TZID=Europe/Berlin:20260607T110000
GEO:50.478406;11.165355
LOCATION:Bürgerstuben Farbglashütte Lauscha\, Straße des Friedens 46\, Laus
 cha
ORGANIZER;CN=Bürgerstuben Gebrüder Heinz:mailto:info@buergerstuben-lauscha.
 de
SEQUENCE:0
SUMMARY: Jägerfest
UID:coburgrennsteigevent_5143_iv0
URL:http://pages.destination.one/de/coburg-rennsteig/streaming/detail/Event
 /coburgrennsteigevent_5143/j-gerfest
END:VEVENT
BEGIN:VTIMEZONE
TZID:Europe/Berlin
X-LIC-LOCATION:Europe/Berlin
BEGIN:DAYLIGHT
DTSTART:19700329T020000
RRULE:FREQ=YEARLY;BYDAY=-1SU;BYMONTH=3
TZNAME:CEST
TZOFFSETFROM:+0100
TZOFFSETTO:+0200
END:DAYLIGHT
BEGIN:STANDARD
DTSTART:19701025T030000
RRULE:FREQ=YEARLY;BYDAY=-1SU;BYMONTH=10
TZNAME:CET
TZOFFSETFROM:+0200
TZOFFSETTO:+0100
END:STANDARD
END:VTIMEZONE
END:VCALENDAR
