BEGIN:VCALENDAR
VERSION:2.0
PRODID:-//destination.one//NONSGML destination.meta API//DE
X-WR-CALDESC:A calendar powered by destination.meta
X-WR-CALNAME:coburg-rennsteig Kalender via destination.meta
BEGIN:VEVENT
CATEGORIES:Märkte
CATEGORIES:Termine
CATEGORIES:Weitere Themen
DESCRIPTION:\n\nmehr Informationen unter http://pages.destination.one/de/co
 burg-rennsteig/streaming/detail/Event/coburgrennsteigevent_23465/events-im
 -hofgarten-bl-tenzauber-am-pavillon
DTEND;TZID=Europe/Berlin:20260528T200000
DTSTAMP:20260422T104256Z
DTSTART;TZID=Europe/Berlin:20260528T140000
GEO:50.260167;10.972450
LOCATION:Herzoglicher Ostpavillon\, Hofgarten\, Coburg
ORGANIZER;CN=Ardes Innovation:mailto:innovation@ardesmodellbau.de
SEQUENCE:0
SUMMARY:Events im Hofgarten: Blütenzauber am Pavillon
UID:coburgrennsteigevent_23465_iv0
URL:http://pages.destination.one/de/coburg-rennsteig/streaming/detail/Event
 /coburgrennsteigevent_23465/events-im-hofgarten-bl-tenzauber-am-pavillon
END:VEVENT
BEGIN:VEVENT
CATEGORIES:Märkte
CATEGORIES:Termine
CATEGORIES:Weitere Themen
DESCRIPTION:\n\nmehr Informationen unter http://pages.destination.one/de/co
 burg-rennsteig/streaming/detail/Event/coburgrennsteigevent_23465/events-im
 -hofgarten-bl-tenzauber-am-pavillon
DTEND;TZID=Europe/Berlin:20260529T200000
DTSTAMP:20260422T104256Z
DTSTART;TZID=Europe/Berlin:20260529T140000
GEO:50.260167;10.972450
LOCATION:Herzoglicher Ostpavillon\, Hofgarten\, Coburg
ORGANIZER;CN=Ardes Innovation:mailto:innovation@ardesmodellbau.de
SEQUENCE:0
SUMMARY:Events im Hofgarten: Blütenzauber am Pavillon
UID:coburgrennsteigevent_23465_iv1
URL:http://pages.destination.one/de/coburg-rennsteig/streaming/detail/Event
 /coburgrennsteigevent_23465/events-im-hofgarten-bl-tenzauber-am-pavillon
END:VEVENT
BEGIN:VEVENT
CATEGORIES:Märkte
CATEGORIES:Termine
CATEGORIES:Weitere Themen
DESCRIPTION:\n\nmehr Informationen unter http://pages.destination.one/de/co
 burg-rennsteig/streaming/detail/Event/coburgrennsteigevent_23465/events-im
 -hofgarten-bl-tenzauber-am-pavillon
DTEND;TZID=Europe/Berlin:20260530T200000
DTSTAMP:20260422T104256Z
DTSTART;TZID=Europe/Berlin:20260530T140000
GEO:50.260167;10.972450
LOCATION:Herzoglicher Ostpavillon\, Hofgarten\, Coburg
ORGANIZER;CN=Ardes Innovation:mailto:innovation@ardesmodellbau.de
SEQUENCE:0
SUMMARY:Events im Hofgarten: Blütenzauber am Pavillon
UID:coburgrennsteigevent_23465_iv2
URL:http://pages.destination.one/de/coburg-rennsteig/streaming/detail/Event
 /coburgrennsteigevent_23465/events-im-hofgarten-bl-tenzauber-am-pavillon
END:VEVENT
BEGIN:VTIMEZONE
TZID:Europe/Berlin
X-LIC-LOCATION:Europe/Berlin
BEGIN:DAYLIGHT
DTSTART:19700329T020000
RRULE:FREQ=YEARLY;BYDAY=-1SU;BYMONTH=3
TZNAME:CEST
TZOFFSETFROM:+0100
TZOFFSETTO:+0200
END:DAYLIGHT
BEGIN:STANDARD
DTSTART:19701025T030000
RRULE:FREQ=YEARLY;BYDAY=-1SU;BYMONTH=10
TZNAME:CET
TZOFFSETFROM:+0200
TZOFFSETTO:+0100
END:STANDARD
END:VTIMEZONE
END:VCALENDAR
