BEGIN:VCALENDAR
VERSION:2.0
PRODID:-//destination.one//NONSGML destination.meta API//DE
X-WR-CALDESC:A calendar powered by destination.meta
X-WR-CALNAME:coburg-rennsteig Kalender via destination.meta
BEGIN:VEVENT
CATEGORIES:Kirchen
CATEGORIES:Vortrag/Literatur
DESCRIPTION:\n\nmehr Informationen unter http://pages.destination.one/de/co
 burg-rennsteig/streaming/detail/Event/coburgrennsteigevent_23464/das-gehei
 mnis-ist-immer-die-liebe
DTEND;TZID=Europe/Berlin:20260518T191500
DTSTAMP:20260423T075121Z
DTSTART;TZID=Europe/Berlin:20260518T190000
GEO:50.254479;10.962977
LOCATION:Jugend- und Kulturzentrum COSMOS\, Schützenstraße 1 a\, Coburg
ORGANIZER;CN=Alt-Katholische Gemeinde Coburg:mailto:andreas.kleefeld@elkb.d
 e
SEQUENCE:0
SUMMARY:Das Geheimnis ist immer die Liebe
UID:coburgrennsteigevent_23464_iv0
URL:http://pages.destination.one/de/coburg-rennsteig/streaming/detail/Event
 /coburgrennsteigevent_23464/das-geheimnis-ist-immer-die-liebe
END:VEVENT
BEGIN:VTIMEZONE
TZID:Europe/Berlin
X-LIC-LOCATION:Europe/Berlin
BEGIN:DAYLIGHT
DTSTART:19700329T020000
RRULE:FREQ=YEARLY;BYDAY=-1SU;BYMONTH=3
TZNAME:CEST
TZOFFSETFROM:+0100
TZOFFSETTO:+0200
END:DAYLIGHT
BEGIN:STANDARD
DTSTART:19701025T030000
RRULE:FREQ=YEARLY;BYDAY=-1SU;BYMONTH=10
TZNAME:CET
TZOFFSETFROM:+0200
TZOFFSETTO:+0100
END:STANDARD
END:VTIMEZONE
END:VCALENDAR
