BEGIN:VCALENDAR
VERSION:2.0
PRODID:-//destination.one//NONSGML destination.meta API//DE
X-WR-CALDESC:A calendar powered by destination.meta
X-WR-CALNAME:coburg-rennsteig Kalender via destination.meta
BEGIN:VEVENT
CATEGORIES:Kongresshaus Rosengarten
CATEGORIES:Unterhaltung
CATEGORIES:Highlights
DESCRIPTION:\n\nmehr Informationen unter http://pages.destination.one/de/co
 burg-rennsteig/streaming/detail/Event/coburgrennsteigevent_23463/michl-m-l
 ler-limbo-of-life
DTEND;TZID=Europe/Berlin:20270217T201500
DTSTAMP:20260423T075206Z
DTSTART;TZID=Europe/Berlin:20270217T200000
GEO:50.254160;10.965570
LOCATION:Kongresshaus Rosengarten\, Berliner Platz 1\, Coburg
ORGANIZER;CN=Agentur Streckenbach GmbH & Co. KG:mailto:info@agentur-strecke
 nbach.de
SEQUENCE:0
SUMMARY:Michl Müller – Limbo of Life
UID:coburgrennsteigevent_23463_iv0
URL:http://pages.destination.one/de/coburg-rennsteig/streaming/detail/Event
 /coburgrennsteigevent_23463/michl-m-ller-limbo-of-life
END:VEVENT
BEGIN:VTIMEZONE
TZID:Europe/Berlin
X-LIC-LOCATION:Europe/Berlin
BEGIN:DAYLIGHT
DTSTART:19700329T020000
RRULE:FREQ=YEARLY;BYDAY=-1SU;BYMONTH=3
TZNAME:CEST
TZOFFSETFROM:+0100
TZOFFSETTO:+0200
END:DAYLIGHT
BEGIN:STANDARD
DTSTART:19701025T030000
RRULE:FREQ=YEARLY;BYDAY=-1SU;BYMONTH=10
TZNAME:CET
TZOFFSETFROM:+0200
TZOFFSETTO:+0100
END:STANDARD
END:VTIMEZONE
END:VCALENDAR
