BEGIN:VCALENDAR
VERSION:2.0
PRODID:-//destination.one//NONSGML destination.meta API//DE
X-WR-CALDESC:A calendar powered by destination.meta
X-WR-CALNAME:coburg-rennsteig Kalender via destination.meta
BEGIN:VEVENT
CATEGORIES:Familien
CATEGORIES:Kirchen
CATEGORIES:Musik
CATEGORIES:Unterhaltung
DESCRIPTION:\n\nmehr Informationen unter http://pages.destination.one/de/co
 burg-rennsteig/streaming/detail/Event/coburgrennsteigevent_23456/fr-hlings
 konzert
DTEND;TZID=Europe/Berlin:20260426T171500
DTSTAMP:20260421T082320Z
DTSTART;TZID=Europe/Berlin:20260426T170000
GEO:50.343120;10.780350
LOCATION:St. Johanniskirche\, Martin-Luther-Straße 3\, Bad Rodach
SEQUENCE:0
SUMMARY:Frühlingskonzert
UID:coburgrennsteigevent_23456_iv0
URL:http://pages.destination.one/de/coburg-rennsteig/streaming/detail/Event
 /coburgrennsteigevent_23456/fr-hlingskonzert
END:VEVENT
BEGIN:VTIMEZONE
TZID:Europe/Berlin
X-LIC-LOCATION:Europe/Berlin
BEGIN:DAYLIGHT
DTSTART:19700329T020000
RRULE:FREQ=YEARLY;BYDAY=-1SU;BYMONTH=3
TZNAME:CEST
TZOFFSETFROM:+0100
TZOFFSETTO:+0200
END:DAYLIGHT
BEGIN:STANDARD
DTSTART:19701025T030000
RRULE:FREQ=YEARLY;BYDAY=-1SU;BYMONTH=10
TZNAME:CET
TZOFFSETFROM:+0200
TZOFFSETTO:+0100
END:STANDARD
END:VTIMEZONE
END:VCALENDAR
