BEGIN:VCALENDAR
VERSION:2.0
PRODID:-//destination.one//NONSGML destination.meta API//DE
X-WR-CALDESC:A calendar powered by destination.meta
X-WR-CALNAME:coburg-rennsteig Kalender via destination.meta
BEGIN:VEVENT
CATEGORIES:Bibliotheken und Archive
CATEGORIES:Galerien
DESCRIPTION:15.06. - 25.07.2026\n\nmehr Informationen unter http://pages.de
 stination.one/de/coburg-rennsteig/streaming/detail/Event/coburgrennsteigev
 ent_23275/ein-k-fig-ging-einen-vogel-suchen
DTEND;TZID=Europe/Berlin:20260615T173000
DTSTAMP:20260422T105137Z
DTSTART;TZID=Europe/Berlin:20260615T120000
GEO:50.258490;10.966716
LOCATION:Stadtbücherei\, Herrngasse 17\, Coburg
ORGANIZER;CN=Stadtbücherei Coburg:mailto:stadtbuecherei@coburg.de
SEQUENCE:0
SUMMARY:Ein Käfig ging einen Vogel suchen
UID:coburgrennsteigevent_23275_iv0
URL:http://pages.destination.one/de/coburg-rennsteig/streaming/detail/Event
 /coburgrennsteigevent_23275/ein-k-fig-ging-einen-vogel-suchen
END:VEVENT
BEGIN:VEVENT
CATEGORIES:Bibliotheken und Archive
CATEGORIES:Galerien
DESCRIPTION:15.06. - 25.07.2026\n\nmehr Informationen unter http://pages.de
 stination.one/de/coburg-rennsteig/streaming/detail/Event/coburgrennsteigev
 ent_23275/ein-k-fig-ging-einen-vogel-suchen
DTEND;TZID=Europe/Berlin:20260616T173000
DTSTAMP:20260422T105137Z
DTSTART;TZID=Europe/Berlin:20260616T120000
GEO:50.258490;10.966716
LOCATION:Stadtbücherei\, Herrngasse 17\, Coburg
ORGANIZER;CN=Stadtbücherei Coburg:mailto:stadtbuecherei@coburg.de
SEQUENCE:0
SUMMARY:Ein Käfig ging einen Vogel suchen
UID:coburgrennsteigevent_23275_iv1
URL:http://pages.destination.one/de/coburg-rennsteig/streaming/detail/Event
 /coburgrennsteigevent_23275/ein-k-fig-ging-einen-vogel-suchen
END:VEVENT
BEGIN:VEVENT
CATEGORIES:Bibliotheken und Archive
CATEGORIES:Galerien
DESCRIPTION:15.06. - 25.07.2026\n\nmehr Informationen unter http://pages.de
 stination.one/de/coburg-rennsteig/streaming/detail/Event/coburgrennsteigev
 ent_23275/ein-k-fig-ging-einen-vogel-suchen
DTEND;TZID=Europe/Berlin:20260618T173000
DTSTAMP:20260422T105137Z
DTSTART;TZID=Europe/Berlin:20260618T120000
GEO:50.258490;10.966716
LOCATION:Stadtbücherei\, Herrngasse 17\, Coburg
ORGANIZER;CN=Stadtbücherei Coburg:mailto:stadtbuecherei@coburg.de
SEQUENCE:0
SUMMARY:Ein Käfig ging einen Vogel suchen
UID:coburgrennsteigevent_23275_iv2
URL:http://pages.destination.one/de/coburg-rennsteig/streaming/detail/Event
 /coburgrennsteigevent_23275/ein-k-fig-ging-einen-vogel-suchen
END:VEVENT
BEGIN:VEVENT
CATEGORIES:Bibliotheken und Archive
CATEGORIES:Galerien
DESCRIPTION:15.06. - 25.07.2026\n\nmehr Informationen unter http://pages.de
 stination.one/de/coburg-rennsteig/streaming/detail/Event/coburgrennsteigev
 ent_23275/ein-k-fig-ging-einen-vogel-suchen
DTEND;TZID=Europe/Berlin:20260622T173000
DTSTAMP:20260422T105137Z
DTSTART;TZID=Europe/Berlin:20260622T120000
GEO:50.258490;10.966716
LOCATION:Stadtbücherei\, Herrngasse 17\, Coburg
ORGANIZER;CN=Stadtbücherei Coburg:mailto:stadtbuecherei@coburg.de
SEQUENCE:0
SUMMARY:Ein Käfig ging einen Vogel suchen
UID:coburgrennsteigevent_23275_iv3
URL:http://pages.destination.one/de/coburg-rennsteig/streaming/detail/Event
 /coburgrennsteigevent_23275/ein-k-fig-ging-einen-vogel-suchen
END:VEVENT
BEGIN:VEVENT
CATEGORIES:Bibliotheken und Archive
CATEGORIES:Galerien
DESCRIPTION:15.06. - 25.07.2026\n\nmehr Informationen unter http://pages.de
 stination.one/de/coburg-rennsteig/streaming/detail/Event/coburgrennsteigev
 ent_23275/ein-k-fig-ging-einen-vogel-suchen
DTEND;TZID=Europe/Berlin:20260623T173000
DTSTAMP:20260422T105137Z
DTSTART;TZID=Europe/Berlin:20260623T120000
GEO:50.258490;10.966716
LOCATION:Stadtbücherei\, Herrngasse 17\, Coburg
ORGANIZER;CN=Stadtbücherei Coburg:mailto:stadtbuecherei@coburg.de
SEQUENCE:0
SUMMARY:Ein Käfig ging einen Vogel suchen
UID:coburgrennsteigevent_23275_iv4
URL:http://pages.destination.one/de/coburg-rennsteig/streaming/detail/Event
 /coburgrennsteigevent_23275/ein-k-fig-ging-einen-vogel-suchen
END:VEVENT
BEGIN:VEVENT
CATEGORIES:Bibliotheken und Archive
CATEGORIES:Galerien
DESCRIPTION:15.06. - 25.07.2026\n\nmehr Informationen unter http://pages.de
 stination.one/de/coburg-rennsteig/streaming/detail/Event/coburgrennsteigev
 ent_23275/ein-k-fig-ging-einen-vogel-suchen
DTEND;TZID=Europe/Berlin:20260625T173000
DTSTAMP:20260422T105137Z
DTSTART;TZID=Europe/Berlin:20260625T120000
GEO:50.258490;10.966716
LOCATION:Stadtbücherei\, Herrngasse 17\, Coburg
ORGANIZER;CN=Stadtbücherei Coburg:mailto:stadtbuecherei@coburg.de
SEQUENCE:0
SUMMARY:Ein Käfig ging einen Vogel suchen
UID:coburgrennsteigevent_23275_iv5
URL:http://pages.destination.one/de/coburg-rennsteig/streaming/detail/Event
 /coburgrennsteigevent_23275/ein-k-fig-ging-einen-vogel-suchen
END:VEVENT
BEGIN:VEVENT
CATEGORIES:Bibliotheken und Archive
CATEGORIES:Galerien
DESCRIPTION:15.06. - 25.07.2026\n\nmehr Informationen unter http://pages.de
 stination.one/de/coburg-rennsteig/streaming/detail/Event/coburgrennsteigev
 ent_23275/ein-k-fig-ging-einen-vogel-suchen
DTEND;TZID=Europe/Berlin:20260626T173000
DTSTAMP:20260422T105137Z
DTSTART;TZID=Europe/Berlin:20260626T120000
GEO:50.258490;10.966716
LOCATION:Stadtbücherei\, Herrngasse 17\, Coburg
ORGANIZER;CN=Stadtbücherei Coburg:mailto:stadtbuecherei@coburg.de
SEQUENCE:0
SUMMARY:Ein Käfig ging einen Vogel suchen
UID:coburgrennsteigevent_23275_iv6
URL:http://pages.destination.one/de/coburg-rennsteig/streaming/detail/Event
 /coburgrennsteigevent_23275/ein-k-fig-ging-einen-vogel-suchen
END:VEVENT
BEGIN:VEVENT
CATEGORIES:Bibliotheken und Archive
CATEGORIES:Galerien
DESCRIPTION:15.06. - 25.07.2026\n\nmehr Informationen unter http://pages.de
 stination.one/de/coburg-rennsteig/streaming/detail/Event/coburgrennsteigev
 ent_23275/ein-k-fig-ging-einen-vogel-suchen
DTEND;TZID=Europe/Berlin:20260627T120000
DTSTAMP:20260422T105137Z
DTSTART;TZID=Europe/Berlin:20260627T090000
GEO:50.258490;10.966716
LOCATION:Stadtbücherei\, Herrngasse 17\, Coburg
ORGANIZER;CN=Stadtbücherei Coburg:mailto:stadtbuecherei@coburg.de
SEQUENCE:0
SUMMARY:Ein Käfig ging einen Vogel suchen
UID:coburgrennsteigevent_23275_iv7
URL:http://pages.destination.one/de/coburg-rennsteig/streaming/detail/Event
 /coburgrennsteigevent_23275/ein-k-fig-ging-einen-vogel-suchen
END:VEVENT
BEGIN:VEVENT
CATEGORIES:Bibliotheken und Archive
CATEGORIES:Galerien
DESCRIPTION:15.06. - 25.07.2026\n\nmehr Informationen unter http://pages.de
 stination.one/de/coburg-rennsteig/streaming/detail/Event/coburgrennsteigev
 ent_23275/ein-k-fig-ging-einen-vogel-suchen
DTEND;TZID=Europe/Berlin:20260629T173000
DTSTAMP:20260422T105137Z
DTSTART;TZID=Europe/Berlin:20260629T120000
GEO:50.258490;10.966716
LOCATION:Stadtbücherei\, Herrngasse 17\, Coburg
ORGANIZER;CN=Stadtbücherei Coburg:mailto:stadtbuecherei@coburg.de
SEQUENCE:0
SUMMARY:Ein Käfig ging einen Vogel suchen
UID:coburgrennsteigevent_23275_iv8
URL:http://pages.destination.one/de/coburg-rennsteig/streaming/detail/Event
 /coburgrennsteigevent_23275/ein-k-fig-ging-einen-vogel-suchen
END:VEVENT
BEGIN:VEVENT
CATEGORIES:Bibliotheken und Archive
CATEGORIES:Galerien
DESCRIPTION:15.06. - 25.07.2026\n\nmehr Informationen unter http://pages.de
 stination.one/de/coburg-rennsteig/streaming/detail/Event/coburgrennsteigev
 ent_23275/ein-k-fig-ging-einen-vogel-suchen
DTEND;TZID=Europe/Berlin:20260630T173000
DTSTAMP:20260422T105137Z
DTSTART;TZID=Europe/Berlin:20260630T120000
GEO:50.258490;10.966716
LOCATION:Stadtbücherei\, Herrngasse 17\, Coburg
ORGANIZER;CN=Stadtbücherei Coburg:mailto:stadtbuecherei@coburg.de
SEQUENCE:0
SUMMARY:Ein Käfig ging einen Vogel suchen
UID:coburgrennsteigevent_23275_iv9
URL:http://pages.destination.one/de/coburg-rennsteig/streaming/detail/Event
 /coburgrennsteigevent_23275/ein-k-fig-ging-einen-vogel-suchen
END:VEVENT
BEGIN:VEVENT
CATEGORIES:Bibliotheken und Archive
CATEGORIES:Galerien
DESCRIPTION:15.06. - 25.07.2026\n\nmehr Informationen unter http://pages.de
 stination.one/de/coburg-rennsteig/streaming/detail/Event/coburgrennsteigev
 ent_23275/ein-k-fig-ging-einen-vogel-suchen
DTEND;TZID=Europe/Berlin:20260701T130000
DTSTAMP:20260422T105137Z
DTSTART;TZID=Europe/Berlin:20260701T090000
GEO:50.258490;10.966716
LOCATION:Stadtbücherei\, Herrngasse 17\, Coburg
ORGANIZER;CN=Stadtbücherei Coburg:mailto:stadtbuecherei@coburg.de
SEQUENCE:0
SUMMARY:Ein Käfig ging einen Vogel suchen
UID:coburgrennsteigevent_23275_iv10
URL:http://pages.destination.one/de/coburg-rennsteig/streaming/detail/Event
 /coburgrennsteigevent_23275/ein-k-fig-ging-einen-vogel-suchen
END:VEVENT
BEGIN:VEVENT
CATEGORIES:Bibliotheken und Archive
CATEGORIES:Galerien
DESCRIPTION:15.06. - 25.07.2026\n\nmehr Informationen unter http://pages.de
 stination.one/de/coburg-rennsteig/streaming/detail/Event/coburgrennsteigev
 ent_23275/ein-k-fig-ging-einen-vogel-suchen
DTEND;TZID=Europe/Berlin:20260702T173000
DTSTAMP:20260422T105137Z
DTSTART;TZID=Europe/Berlin:20260702T120000
GEO:50.258490;10.966716
LOCATION:Stadtbücherei\, Herrngasse 17\, Coburg
ORGANIZER;CN=Stadtbücherei Coburg:mailto:stadtbuecherei@coburg.de
SEQUENCE:0
SUMMARY:Ein Käfig ging einen Vogel suchen
UID:coburgrennsteigevent_23275_iv11
URL:http://pages.destination.one/de/coburg-rennsteig/streaming/detail/Event
 /coburgrennsteigevent_23275/ein-k-fig-ging-einen-vogel-suchen
END:VEVENT
BEGIN:VEVENT
CATEGORIES:Bibliotheken und Archive
CATEGORIES:Galerien
DESCRIPTION:15.06. - 25.07.2026\n\nmehr Informationen unter http://pages.de
 stination.one/de/coburg-rennsteig/streaming/detail/Event/coburgrennsteigev
 ent_23275/ein-k-fig-ging-einen-vogel-suchen
DTEND;TZID=Europe/Berlin:20260703T173000
DTSTAMP:20260422T105137Z
DTSTART;TZID=Europe/Berlin:20260703T120000
GEO:50.258490;10.966716
LOCATION:Stadtbücherei\, Herrngasse 17\, Coburg
ORGANIZER;CN=Stadtbücherei Coburg:mailto:stadtbuecherei@coburg.de
SEQUENCE:0
SUMMARY:Ein Käfig ging einen Vogel suchen
UID:coburgrennsteigevent_23275_iv12
URL:http://pages.destination.one/de/coburg-rennsteig/streaming/detail/Event
 /coburgrennsteigevent_23275/ein-k-fig-ging-einen-vogel-suchen
END:VEVENT
BEGIN:VEVENT
CATEGORIES:Bibliotheken und Archive
CATEGORIES:Galerien
DESCRIPTION:15.06. - 25.07.2026\n\nmehr Informationen unter http://pages.de
 stination.one/de/coburg-rennsteig/streaming/detail/Event/coburgrennsteigev
 ent_23275/ein-k-fig-ging-einen-vogel-suchen
DTEND;TZID=Europe/Berlin:20260704T120000
DTSTAMP:20260422T105137Z
DTSTART;TZID=Europe/Berlin:20260704T090000
GEO:50.258490;10.966716
LOCATION:Stadtbücherei\, Herrngasse 17\, Coburg
ORGANIZER;CN=Stadtbücherei Coburg:mailto:stadtbuecherei@coburg.de
SEQUENCE:0
SUMMARY:Ein Käfig ging einen Vogel suchen
UID:coburgrennsteigevent_23275_iv13
URL:http://pages.destination.one/de/coburg-rennsteig/streaming/detail/Event
 /coburgrennsteigevent_23275/ein-k-fig-ging-einen-vogel-suchen
END:VEVENT
BEGIN:VEVENT
CATEGORIES:Bibliotheken und Archive
CATEGORIES:Galerien
DESCRIPTION:15.06. - 25.07.2026\n\nmehr Informationen unter http://pages.de
 stination.one/de/coburg-rennsteig/streaming/detail/Event/coburgrennsteigev
 ent_23275/ein-k-fig-ging-einen-vogel-suchen
DTEND;TZID=Europe/Berlin:20260706T173000
DTSTAMP:20260422T105137Z
DTSTART;TZID=Europe/Berlin:20260706T120000
GEO:50.258490;10.966716
LOCATION:Stadtbücherei\, Herrngasse 17\, Coburg
ORGANIZER;CN=Stadtbücherei Coburg:mailto:stadtbuecherei@coburg.de
SEQUENCE:0
SUMMARY:Ein Käfig ging einen Vogel suchen
UID:coburgrennsteigevent_23275_iv14
URL:http://pages.destination.one/de/coburg-rennsteig/streaming/detail/Event
 /coburgrennsteigevent_23275/ein-k-fig-ging-einen-vogel-suchen
END:VEVENT
BEGIN:VEVENT
CATEGORIES:Bibliotheken und Archive
CATEGORIES:Galerien
DESCRIPTION:15.06. - 25.07.2026\n\nmehr Informationen unter http://pages.de
 stination.one/de/coburg-rennsteig/streaming/detail/Event/coburgrennsteigev
 ent_23275/ein-k-fig-ging-einen-vogel-suchen
DTEND;TZID=Europe/Berlin:20260707T173000
DTSTAMP:20260422T105137Z
DTSTART;TZID=Europe/Berlin:20260707T120000
GEO:50.258490;10.966716
LOCATION:Stadtbücherei\, Herrngasse 17\, Coburg
ORGANIZER;CN=Stadtbücherei Coburg:mailto:stadtbuecherei@coburg.de
SEQUENCE:0
SUMMARY:Ein Käfig ging einen Vogel suchen
UID:coburgrennsteigevent_23275_iv15
URL:http://pages.destination.one/de/coburg-rennsteig/streaming/detail/Event
 /coburgrennsteigevent_23275/ein-k-fig-ging-einen-vogel-suchen
END:VEVENT
BEGIN:VEVENT
CATEGORIES:Bibliotheken und Archive
CATEGORIES:Galerien
DESCRIPTION:15.06. - 25.07.2026\n\nmehr Informationen unter http://pages.de
 stination.one/de/coburg-rennsteig/streaming/detail/Event/coburgrennsteigev
 ent_23275/ein-k-fig-ging-einen-vogel-suchen
DTEND;TZID=Europe/Berlin:20260708T130000
DTSTAMP:20260422T105137Z
DTSTART;TZID=Europe/Berlin:20260708T090000
GEO:50.258490;10.966716
LOCATION:Stadtbücherei\, Herrngasse 17\, Coburg
ORGANIZER;CN=Stadtbücherei Coburg:mailto:stadtbuecherei@coburg.de
SEQUENCE:0
SUMMARY:Ein Käfig ging einen Vogel suchen
UID:coburgrennsteigevent_23275_iv16
URL:http://pages.destination.one/de/coburg-rennsteig/streaming/detail/Event
 /coburgrennsteigevent_23275/ein-k-fig-ging-einen-vogel-suchen
END:VEVENT
BEGIN:VEVENT
CATEGORIES:Bibliotheken und Archive
CATEGORIES:Galerien
DESCRIPTION:15.06. - 25.07.2026\n\nmehr Informationen unter http://pages.de
 stination.one/de/coburg-rennsteig/streaming/detail/Event/coburgrennsteigev
 ent_23275/ein-k-fig-ging-einen-vogel-suchen
DTEND;TZID=Europe/Berlin:20260709T173000
DTSTAMP:20260422T105137Z
DTSTART;TZID=Europe/Berlin:20260709T120000
GEO:50.258490;10.966716
LOCATION:Stadtbücherei\, Herrngasse 17\, Coburg
ORGANIZER;CN=Stadtbücherei Coburg:mailto:stadtbuecherei@coburg.de
SEQUENCE:0
SUMMARY:Ein Käfig ging einen Vogel suchen
UID:coburgrennsteigevent_23275_iv17
URL:http://pages.destination.one/de/coburg-rennsteig/streaming/detail/Event
 /coburgrennsteigevent_23275/ein-k-fig-ging-einen-vogel-suchen
END:VEVENT
BEGIN:VEVENT
CATEGORIES:Bibliotheken und Archive
CATEGORIES:Galerien
DESCRIPTION:15.06. - 25.07.2026\n\nmehr Informationen unter http://pages.de
 stination.one/de/coburg-rennsteig/streaming/detail/Event/coburgrennsteigev
 ent_23275/ein-k-fig-ging-einen-vogel-suchen
DTEND;TZID=Europe/Berlin:20260710T173000
DTSTAMP:20260422T105137Z
DTSTART;TZID=Europe/Berlin:20260710T120000
GEO:50.258490;10.966716
LOCATION:Stadtbücherei\, Herrngasse 17\, Coburg
ORGANIZER;CN=Stadtbücherei Coburg:mailto:stadtbuecherei@coburg.de
SEQUENCE:0
SUMMARY:Ein Käfig ging einen Vogel suchen
UID:coburgrennsteigevent_23275_iv18
URL:http://pages.destination.one/de/coburg-rennsteig/streaming/detail/Event
 /coburgrennsteigevent_23275/ein-k-fig-ging-einen-vogel-suchen
END:VEVENT
BEGIN:VEVENT
CATEGORIES:Bibliotheken und Archive
CATEGORIES:Galerien
DESCRIPTION:15.06. - 25.07.2026\n\nmehr Informationen unter http://pages.de
 stination.one/de/coburg-rennsteig/streaming/detail/Event/coburgrennsteigev
 ent_23275/ein-k-fig-ging-einen-vogel-suchen
DTEND;TZID=Europe/Berlin:20260711T120000
DTSTAMP:20260422T105137Z
DTSTART;TZID=Europe/Berlin:20260711T090000
GEO:50.258490;10.966716
LOCATION:Stadtbücherei\, Herrngasse 17\, Coburg
ORGANIZER;CN=Stadtbücherei Coburg:mailto:stadtbuecherei@coburg.de
SEQUENCE:0
SUMMARY:Ein Käfig ging einen Vogel suchen
UID:coburgrennsteigevent_23275_iv19
URL:http://pages.destination.one/de/coburg-rennsteig/streaming/detail/Event
 /coburgrennsteigevent_23275/ein-k-fig-ging-einen-vogel-suchen
END:VEVENT
BEGIN:VEVENT
CATEGORIES:Bibliotheken und Archive
CATEGORIES:Galerien
DESCRIPTION:15.06. - 25.07.2026\n\nmehr Informationen unter http://pages.de
 stination.one/de/coburg-rennsteig/streaming/detail/Event/coburgrennsteigev
 ent_23275/ein-k-fig-ging-einen-vogel-suchen
DTEND;TZID=Europe/Berlin:20260713T173000
DTSTAMP:20260422T105137Z
DTSTART;TZID=Europe/Berlin:20260713T120000
GEO:50.258490;10.966716
LOCATION:Stadtbücherei\, Herrngasse 17\, Coburg
ORGANIZER;CN=Stadtbücherei Coburg:mailto:stadtbuecherei@coburg.de
SEQUENCE:0
SUMMARY:Ein Käfig ging einen Vogel suchen
UID:coburgrennsteigevent_23275_iv20
URL:http://pages.destination.one/de/coburg-rennsteig/streaming/detail/Event
 /coburgrennsteigevent_23275/ein-k-fig-ging-einen-vogel-suchen
END:VEVENT
BEGIN:VEVENT
CATEGORIES:Bibliotheken und Archive
CATEGORIES:Galerien
DESCRIPTION:15.06. - 25.07.2026\n\nmehr Informationen unter http://pages.de
 stination.one/de/coburg-rennsteig/streaming/detail/Event/coburgrennsteigev
 ent_23275/ein-k-fig-ging-einen-vogel-suchen
DTEND;TZID=Europe/Berlin:20260714T173000
DTSTAMP:20260422T105137Z
DTSTART;TZID=Europe/Berlin:20260714T120000
GEO:50.258490;10.966716
LOCATION:Stadtbücherei\, Herrngasse 17\, Coburg
ORGANIZER;CN=Stadtbücherei Coburg:mailto:stadtbuecherei@coburg.de
SEQUENCE:0
SUMMARY:Ein Käfig ging einen Vogel suchen
UID:coburgrennsteigevent_23275_iv21
URL:http://pages.destination.one/de/coburg-rennsteig/streaming/detail/Event
 /coburgrennsteigevent_23275/ein-k-fig-ging-einen-vogel-suchen
END:VEVENT
BEGIN:VEVENT
CATEGORIES:Bibliotheken und Archive
CATEGORIES:Galerien
DESCRIPTION:15.06. - 25.07.2026\n\nmehr Informationen unter http://pages.de
 stination.one/de/coburg-rennsteig/streaming/detail/Event/coburgrennsteigev
 ent_23275/ein-k-fig-ging-einen-vogel-suchen
DTEND;TZID=Europe/Berlin:20260715T130000
DTSTAMP:20260422T105137Z
DTSTART;TZID=Europe/Berlin:20260715T090000
GEO:50.258490;10.966716
LOCATION:Stadtbücherei\, Herrngasse 17\, Coburg
ORGANIZER;CN=Stadtbücherei Coburg:mailto:stadtbuecherei@coburg.de
SEQUENCE:0
SUMMARY:Ein Käfig ging einen Vogel suchen
UID:coburgrennsteigevent_23275_iv22
URL:http://pages.destination.one/de/coburg-rennsteig/streaming/detail/Event
 /coburgrennsteigevent_23275/ein-k-fig-ging-einen-vogel-suchen
END:VEVENT
BEGIN:VEVENT
CATEGORIES:Bibliotheken und Archive
CATEGORIES:Galerien
DESCRIPTION:15.06. - 25.07.2026\n\nmehr Informationen unter http://pages.de
 stination.one/de/coburg-rennsteig/streaming/detail/Event/coburgrennsteigev
 ent_23275/ein-k-fig-ging-einen-vogel-suchen
DTEND;TZID=Europe/Berlin:20260716T173000
DTSTAMP:20260422T105137Z
DTSTART;TZID=Europe/Berlin:20260716T120000
GEO:50.258490;10.966716
LOCATION:Stadtbücherei\, Herrngasse 17\, Coburg
ORGANIZER;CN=Stadtbücherei Coburg:mailto:stadtbuecherei@coburg.de
SEQUENCE:0
SUMMARY:Ein Käfig ging einen Vogel suchen
UID:coburgrennsteigevent_23275_iv23
URL:http://pages.destination.one/de/coburg-rennsteig/streaming/detail/Event
 /coburgrennsteigevent_23275/ein-k-fig-ging-einen-vogel-suchen
END:VEVENT
BEGIN:VEVENT
CATEGORIES:Bibliotheken und Archive
CATEGORIES:Galerien
DESCRIPTION:15.06. - 25.07.2026\n\nmehr Informationen unter http://pages.de
 stination.one/de/coburg-rennsteig/streaming/detail/Event/coburgrennsteigev
 ent_23275/ein-k-fig-ging-einen-vogel-suchen
DTEND;TZID=Europe/Berlin:20260717T173000
DTSTAMP:20260422T105137Z
DTSTART;TZID=Europe/Berlin:20260717T120000
GEO:50.258490;10.966716
LOCATION:Stadtbücherei\, Herrngasse 17\, Coburg
ORGANIZER;CN=Stadtbücherei Coburg:mailto:stadtbuecherei@coburg.de
SEQUENCE:0
SUMMARY:Ein Käfig ging einen Vogel suchen
UID:coburgrennsteigevent_23275_iv24
URL:http://pages.destination.one/de/coburg-rennsteig/streaming/detail/Event
 /coburgrennsteigevent_23275/ein-k-fig-ging-einen-vogel-suchen
END:VEVENT
BEGIN:VEVENT
CATEGORIES:Bibliotheken und Archive
CATEGORIES:Galerien
DESCRIPTION:15.06. - 25.07.2026\n\nmehr Informationen unter http://pages.de
 stination.one/de/coburg-rennsteig/streaming/detail/Event/coburgrennsteigev
 ent_23275/ein-k-fig-ging-einen-vogel-suchen
DTEND;TZID=Europe/Berlin:20260718T120000
DTSTAMP:20260422T105137Z
DTSTART;TZID=Europe/Berlin:20260718T090000
GEO:50.258490;10.966716
LOCATION:Stadtbücherei\, Herrngasse 17\, Coburg
ORGANIZER;CN=Stadtbücherei Coburg:mailto:stadtbuecherei@coburg.de
SEQUENCE:0
SUMMARY:Ein Käfig ging einen Vogel suchen
UID:coburgrennsteigevent_23275_iv25
URL:http://pages.destination.one/de/coburg-rennsteig/streaming/detail/Event
 /coburgrennsteigevent_23275/ein-k-fig-ging-einen-vogel-suchen
END:VEVENT
BEGIN:VEVENT
CATEGORIES:Bibliotheken und Archive
CATEGORIES:Galerien
DESCRIPTION:15.06. - 25.07.2026\n\nmehr Informationen unter http://pages.de
 stination.one/de/coburg-rennsteig/streaming/detail/Event/coburgrennsteigev
 ent_23275/ein-k-fig-ging-einen-vogel-suchen
DTEND;TZID=Europe/Berlin:20260720T173000
DTSTAMP:20260422T105137Z
DTSTART;TZID=Europe/Berlin:20260720T120000
GEO:50.258490;10.966716
LOCATION:Stadtbücherei\, Herrngasse 17\, Coburg
ORGANIZER;CN=Stadtbücherei Coburg:mailto:stadtbuecherei@coburg.de
SEQUENCE:0
SUMMARY:Ein Käfig ging einen Vogel suchen
UID:coburgrennsteigevent_23275_iv26
URL:http://pages.destination.one/de/coburg-rennsteig/streaming/detail/Event
 /coburgrennsteigevent_23275/ein-k-fig-ging-einen-vogel-suchen
END:VEVENT
BEGIN:VEVENT
CATEGORIES:Bibliotheken und Archive
CATEGORIES:Galerien
DESCRIPTION:15.06. - 25.07.2026\n\nmehr Informationen unter http://pages.de
 stination.one/de/coburg-rennsteig/streaming/detail/Event/coburgrennsteigev
 ent_23275/ein-k-fig-ging-einen-vogel-suchen
DTEND;TZID=Europe/Berlin:20260721T173000
DTSTAMP:20260422T105137Z
DTSTART;TZID=Europe/Berlin:20260721T120000
GEO:50.258490;10.966716
LOCATION:Stadtbücherei\, Herrngasse 17\, Coburg
ORGANIZER;CN=Stadtbücherei Coburg:mailto:stadtbuecherei@coburg.de
SEQUENCE:0
SUMMARY:Ein Käfig ging einen Vogel suchen
UID:coburgrennsteigevent_23275_iv27
URL:http://pages.destination.one/de/coburg-rennsteig/streaming/detail/Event
 /coburgrennsteigevent_23275/ein-k-fig-ging-einen-vogel-suchen
END:VEVENT
BEGIN:VEVENT
CATEGORIES:Bibliotheken und Archive
CATEGORIES:Galerien
DESCRIPTION:15.06. - 25.07.2026\n\nmehr Informationen unter http://pages.de
 stination.one/de/coburg-rennsteig/streaming/detail/Event/coburgrennsteigev
 ent_23275/ein-k-fig-ging-einen-vogel-suchen
DTEND;TZID=Europe/Berlin:20260722T130000
DTSTAMP:20260422T105137Z
DTSTART;TZID=Europe/Berlin:20260722T090000
GEO:50.258490;10.966716
LOCATION:Stadtbücherei\, Herrngasse 17\, Coburg
ORGANIZER;CN=Stadtbücherei Coburg:mailto:stadtbuecherei@coburg.de
SEQUENCE:0
SUMMARY:Ein Käfig ging einen Vogel suchen
UID:coburgrennsteigevent_23275_iv28
URL:http://pages.destination.one/de/coburg-rennsteig/streaming/detail/Event
 /coburgrennsteigevent_23275/ein-k-fig-ging-einen-vogel-suchen
END:VEVENT
BEGIN:VEVENT
CATEGORIES:Bibliotheken und Archive
CATEGORIES:Galerien
DESCRIPTION:15.06. - 25.07.2026\n\nmehr Informationen unter http://pages.de
 stination.one/de/coburg-rennsteig/streaming/detail/Event/coburgrennsteigev
 ent_23275/ein-k-fig-ging-einen-vogel-suchen
DTEND;TZID=Europe/Berlin:20260723T173000
DTSTAMP:20260422T105137Z
DTSTART;TZID=Europe/Berlin:20260723T120000
GEO:50.258490;10.966716
LOCATION:Stadtbücherei\, Herrngasse 17\, Coburg
ORGANIZER;CN=Stadtbücherei Coburg:mailto:stadtbuecherei@coburg.de
SEQUENCE:0
SUMMARY:Ein Käfig ging einen Vogel suchen
UID:coburgrennsteigevent_23275_iv29
URL:http://pages.destination.one/de/coburg-rennsteig/streaming/detail/Event
 /coburgrennsteigevent_23275/ein-k-fig-ging-einen-vogel-suchen
END:VEVENT
BEGIN:VEVENT
CATEGORIES:Bibliotheken und Archive
CATEGORIES:Galerien
DESCRIPTION:15.06. - 25.07.2026\n\nmehr Informationen unter http://pages.de
 stination.one/de/coburg-rennsteig/streaming/detail/Event/coburgrennsteigev
 ent_23275/ein-k-fig-ging-einen-vogel-suchen
DTEND;TZID=Europe/Berlin:20260724T173000
DTSTAMP:20260422T105137Z
DTSTART;TZID=Europe/Berlin:20260724T120000
GEO:50.258490;10.966716
LOCATION:Stadtbücherei\, Herrngasse 17\, Coburg
ORGANIZER;CN=Stadtbücherei Coburg:mailto:stadtbuecherei@coburg.de
SEQUENCE:0
SUMMARY:Ein Käfig ging einen Vogel suchen
UID:coburgrennsteigevent_23275_iv30
URL:http://pages.destination.one/de/coburg-rennsteig/streaming/detail/Event
 /coburgrennsteigevent_23275/ein-k-fig-ging-einen-vogel-suchen
END:VEVENT
BEGIN:VEVENT
CATEGORIES:Bibliotheken und Archive
CATEGORIES:Galerien
DESCRIPTION:15.06. - 25.07.2026\n\nmehr Informationen unter http://pages.de
 stination.one/de/coburg-rennsteig/streaming/detail/Event/coburgrennsteigev
 ent_23275/ein-k-fig-ging-einen-vogel-suchen
DTEND;TZID=Europe/Berlin:20260725T120000
DTSTAMP:20260422T105137Z
DTSTART;TZID=Europe/Berlin:20260725T090000
GEO:50.258490;10.966716
LOCATION:Stadtbücherei\, Herrngasse 17\, Coburg
ORGANIZER;CN=Stadtbücherei Coburg:mailto:stadtbuecherei@coburg.de
SEQUENCE:0
SUMMARY:Ein Käfig ging einen Vogel suchen
UID:coburgrennsteigevent_23275_iv31
URL:http://pages.destination.one/de/coburg-rennsteig/streaming/detail/Event
 /coburgrennsteigevent_23275/ein-k-fig-ging-einen-vogel-suchen
END:VEVENT
BEGIN:VTIMEZONE
TZID:Europe/Berlin
X-LIC-LOCATION:Europe/Berlin
BEGIN:DAYLIGHT
DTSTART:19700329T020000
RRULE:FREQ=YEARLY;BYDAY=-1SU;BYMONTH=3
TZNAME:CEST
TZOFFSETFROM:+0100
TZOFFSETTO:+0200
END:DAYLIGHT
BEGIN:STANDARD
DTSTART:19701025T030000
RRULE:FREQ=YEARLY;BYDAY=-1SU;BYMONTH=10
TZNAME:CET
TZOFFSETFROM:+0200
TZOFFSETTO:+0100
END:STANDARD
END:VTIMEZONE
END:VCALENDAR
