BEGIN:VCALENDAR
VERSION:2.0
PRODID:-//destination.one//NONSGML destination.meta API//DE
X-WR-CALDESC:A calendar powered by destination.meta
X-WR-CALNAME:coburg-rennsteig Kalender via destination.meta
BEGIN:VEVENT
CATEGORIES:Familien
CATEGORIES:Galerien
DESCRIPTION:11.03. - 31.05.2026\n\nmehr Informationen unter http://pages.de
 stination.one/de/coburg-rennsteig/streaming/detail/Event/coburgrennsteigev
 ent_23269/ein-k-fig-ging-einen-vogel-suchen
DTEND;TZID=Europe/Berlin:20260426T170000
DTSTAMP:20260423T074025Z
DTSTART;TZID=Europe/Berlin:20260426T140000
GEO:50.322454;10.901977
LOCATION:Friedensmuseum Meeder\, Schulstraße 18\, Meeder
ORGANIZER;CN=Friedensmuseum Meeder:mailto:info@friedensmuseum-meeder.de
SEQUENCE:0
SUMMARY:Ein Käfig ging einen Vogel suchen
UID:coburgrennsteigevent_23269_iv0
URL:http://pages.destination.one/de/coburg-rennsteig/streaming/detail/Event
 /coburgrennsteigevent_23269/ein-k-fig-ging-einen-vogel-suchen
END:VEVENT
BEGIN:VEVENT
CATEGORIES:Familien
CATEGORIES:Galerien
DESCRIPTION:11.03. - 31.05.2026\n\nmehr Informationen unter http://pages.de
 stination.one/de/coburg-rennsteig/streaming/detail/Event/coburgrennsteigev
 ent_23269/ein-k-fig-ging-einen-vogel-suchen
DTEND;TZID=Europe/Berlin:20260503T170000
DTSTAMP:20260423T074025Z
DTSTART;TZID=Europe/Berlin:20260503T140000
GEO:50.322454;10.901977
LOCATION:Friedensmuseum Meeder\, Schulstraße 18\, Meeder
ORGANIZER;CN=Friedensmuseum Meeder:mailto:info@friedensmuseum-meeder.de
SEQUENCE:0
SUMMARY:Ein Käfig ging einen Vogel suchen
UID:coburgrennsteigevent_23269_iv1
URL:http://pages.destination.one/de/coburg-rennsteig/streaming/detail/Event
 /coburgrennsteigevent_23269/ein-k-fig-ging-einen-vogel-suchen
END:VEVENT
BEGIN:VEVENT
CATEGORIES:Familien
CATEGORIES:Galerien
DESCRIPTION:11.03. - 31.05.2026\n\nmehr Informationen unter http://pages.de
 stination.one/de/coburg-rennsteig/streaming/detail/Event/coburgrennsteigev
 ent_23269/ein-k-fig-ging-einen-vogel-suchen
DTEND;TZID=Europe/Berlin:20260510T170000
DTSTAMP:20260423T074025Z
DTSTART;TZID=Europe/Berlin:20260510T140000
GEO:50.322454;10.901977
LOCATION:Friedensmuseum Meeder\, Schulstraße 18\, Meeder
ORGANIZER;CN=Friedensmuseum Meeder:mailto:info@friedensmuseum-meeder.de
SEQUENCE:0
SUMMARY:Ein Käfig ging einen Vogel suchen
UID:coburgrennsteigevent_23269_iv2
URL:http://pages.destination.one/de/coburg-rennsteig/streaming/detail/Event
 /coburgrennsteigevent_23269/ein-k-fig-ging-einen-vogel-suchen
END:VEVENT
BEGIN:VEVENT
CATEGORIES:Familien
CATEGORIES:Galerien
DESCRIPTION:11.03. - 31.05.2026\n\nmehr Informationen unter http://pages.de
 stination.one/de/coburg-rennsteig/streaming/detail/Event/coburgrennsteigev
 ent_23269/ein-k-fig-ging-einen-vogel-suchen
DTEND;TZID=Europe/Berlin:20260517T170000
DTSTAMP:20260423T074025Z
DTSTART;TZID=Europe/Berlin:20260517T140000
GEO:50.322454;10.901977
LOCATION:Friedensmuseum Meeder\, Schulstraße 18\, Meeder
ORGANIZER;CN=Friedensmuseum Meeder:mailto:info@friedensmuseum-meeder.de
SEQUENCE:0
SUMMARY:Ein Käfig ging einen Vogel suchen
UID:coburgrennsteigevent_23269_iv3
URL:http://pages.destination.one/de/coburg-rennsteig/streaming/detail/Event
 /coburgrennsteigevent_23269/ein-k-fig-ging-einen-vogel-suchen
END:VEVENT
BEGIN:VEVENT
CATEGORIES:Familien
CATEGORIES:Galerien
DESCRIPTION:11.03. - 31.05.2026\n\nmehr Informationen unter http://pages.de
 stination.one/de/coburg-rennsteig/streaming/detail/Event/coburgrennsteigev
 ent_23269/ein-k-fig-ging-einen-vogel-suchen
DTEND;TZID=Europe/Berlin:20260524T170000
DTSTAMP:20260423T074025Z
DTSTART;TZID=Europe/Berlin:20260524T140000
GEO:50.322454;10.901977
LOCATION:Friedensmuseum Meeder\, Schulstraße 18\, Meeder
ORGANIZER;CN=Friedensmuseum Meeder:mailto:info@friedensmuseum-meeder.de
SEQUENCE:0
SUMMARY:Ein Käfig ging einen Vogel suchen
UID:coburgrennsteigevent_23269_iv4
URL:http://pages.destination.one/de/coburg-rennsteig/streaming/detail/Event
 /coburgrennsteigevent_23269/ein-k-fig-ging-einen-vogel-suchen
END:VEVENT
BEGIN:VEVENT
CATEGORIES:Familien
CATEGORIES:Galerien
DESCRIPTION:11.03. - 31.05.2026\n\nmehr Informationen unter http://pages.de
 stination.one/de/coburg-rennsteig/streaming/detail/Event/coburgrennsteigev
 ent_23269/ein-k-fig-ging-einen-vogel-suchen
DTEND;TZID=Europe/Berlin:20260531T170000
DTSTAMP:20260423T074025Z
DTSTART;TZID=Europe/Berlin:20260531T140000
GEO:50.322454;10.901977
LOCATION:Friedensmuseum Meeder\, Schulstraße 18\, Meeder
ORGANIZER;CN=Friedensmuseum Meeder:mailto:info@friedensmuseum-meeder.de
SEQUENCE:0
SUMMARY:Ein Käfig ging einen Vogel suchen
UID:coburgrennsteigevent_23269_iv5
URL:http://pages.destination.one/de/coburg-rennsteig/streaming/detail/Event
 /coburgrennsteigevent_23269/ein-k-fig-ging-einen-vogel-suchen
END:VEVENT
BEGIN:VTIMEZONE
TZID:Europe/Berlin
X-LIC-LOCATION:Europe/Berlin
BEGIN:DAYLIGHT
DTSTART:19700329T020000
RRULE:FREQ=YEARLY;BYDAY=-1SU;BYMONTH=3
TZNAME:CEST
TZOFFSETFROM:+0100
TZOFFSETTO:+0200
END:DAYLIGHT
BEGIN:STANDARD
DTSTART:19701025T030000
RRULE:FREQ=YEARLY;BYDAY=-1SU;BYMONTH=10
TZNAME:CET
TZOFFSETFROM:+0200
TZOFFSETTO:+0100
END:STANDARD
END:VTIMEZONE
END:VCALENDAR
