BEGIN:VCALENDAR
VERSION:2.0
PRODID:-//destination.one//NONSGML destination.meta API//DE
X-WR-CALDESC:A calendar powered by destination.meta
X-WR-CALNAME:coburg-rennsteig Kalender via destination.meta
BEGIN:VEVENT
CATEGORIES:Unterhaltung
CATEGORIES:Vortrag/Literatur
DESCRIPTION:24.04. bis 13.06.2026\n\nmehr Informationen unter http://pages.
 destination.one/de/coburg-rennsteig/streaming/detail/Event/coburgrennsteig
 event_23266/coburg-liest-2026
DTEND;TZID=Europe/Berlin:20260424T151500
DTSTAMP:20260420T090641Z
DTSTART;TZID=Europe/Berlin:20260424T150000
GEO:50.257918;10.964312
LOCATION:Coburg\, \, Coburg
ORGANIZER;CN=Coburg liest! / vhs-Coburg:mailto:info@vhs-coburg.de
SEQUENCE:0
SUMMARY:Coburg liest! 2026
UID:coburgrennsteigevent_23266_iv0
URL:http://pages.destination.one/de/coburg-rennsteig/streaming/detail/Event
 /coburgrennsteigevent_23266/coburg-liest-2026
END:VEVENT
BEGIN:VEVENT
CATEGORIES:Unterhaltung
CATEGORIES:Vortrag/Literatur
DESCRIPTION:24.04. bis 13.06.2026\n\nmehr Informationen unter http://pages.
 destination.one/de/coburg-rennsteig/streaming/detail/Event/coburgrennsteig
 event_23266/coburg-liest-2026
DTEND;TZID=Europe/Berlin:20260424T181500
DTSTAMP:20260420T090641Z
DTSTART;TZID=Europe/Berlin:20260424T180000
GEO:50.257918;10.964312
LOCATION:Coburg\, \, Coburg
ORGANIZER;CN=Coburg liest! / vhs-Coburg:mailto:info@vhs-coburg.de
SEQUENCE:0
SUMMARY:Coburg liest! 2026
UID:coburgrennsteigevent_23266_iv1
URL:http://pages.destination.one/de/coburg-rennsteig/streaming/detail/Event
 /coburgrennsteigevent_23266/coburg-liest-2026
END:VEVENT
BEGIN:VEVENT
CATEGORIES:Unterhaltung
CATEGORIES:Vortrag/Literatur
DESCRIPTION:24.04. bis 13.06.2026\n\nmehr Informationen unter http://pages.
 destination.one/de/coburg-rennsteig/streaming/detail/Event/coburgrennsteig
 event_23266/coburg-liest-2026
DTEND;TZID=Europe/Berlin:20260425T191500
DTSTAMP:20260420T090641Z
DTSTART;TZID=Europe/Berlin:20260425T190000
GEO:50.257918;10.964312
LOCATION:Coburg\, \, Coburg
ORGANIZER;CN=Coburg liest! / vhs-Coburg:mailto:info@vhs-coburg.de
SEQUENCE:0
SUMMARY:Coburg liest! 2026
UID:coburgrennsteigevent_23266_iv2
URL:http://pages.destination.one/de/coburg-rennsteig/streaming/detail/Event
 /coburgrennsteigevent_23266/coburg-liest-2026
END:VEVENT
BEGIN:VEVENT
CATEGORIES:Unterhaltung
CATEGORIES:Vortrag/Literatur
DESCRIPTION:24.04. bis 13.06.2026\n\nmehr Informationen unter http://pages.
 destination.one/de/coburg-rennsteig/streaming/detail/Event/coburgrennsteig
 event_23266/coburg-liest-2026
DTEND;TZID=Europe/Berlin:20260429T194500
DTSTAMP:20260420T090641Z
DTSTART;TZID=Europe/Berlin:20260429T193000
GEO:50.257918;10.964312
LOCATION:Coburg\, \, Coburg
ORGANIZER;CN=Coburg liest! / vhs-Coburg:mailto:info@vhs-coburg.de
SEQUENCE:0
SUMMARY:Coburg liest! 2026
UID:coburgrennsteigevent_23266_iv3
URL:http://pages.destination.one/de/coburg-rennsteig/streaming/detail/Event
 /coburgrennsteigevent_23266/coburg-liest-2026
END:VEVENT
BEGIN:VEVENT
CATEGORIES:Unterhaltung
CATEGORIES:Vortrag/Literatur
DESCRIPTION:24.04. bis 13.06.2026\n\nmehr Informationen unter http://pages.
 destination.one/de/coburg-rennsteig/streaming/detail/Event/coburgrennsteig
 event_23266/coburg-liest-2026
DTEND;TZID=Europe/Berlin:20260430T161500
DTSTAMP:20260420T090641Z
DTSTART;TZID=Europe/Berlin:20260430T160000
GEO:50.257918;10.964312
LOCATION:Coburg\, \, Coburg
ORGANIZER;CN=Coburg liest! / vhs-Coburg:mailto:info@vhs-coburg.de
SEQUENCE:0
SUMMARY:Coburg liest! 2026
UID:coburgrennsteigevent_23266_iv4
URL:http://pages.destination.one/de/coburg-rennsteig/streaming/detail/Event
 /coburgrennsteigevent_23266/coburg-liest-2026
END:VEVENT
BEGIN:VEVENT
CATEGORIES:Unterhaltung
CATEGORIES:Vortrag/Literatur
DESCRIPTION:24.04. bis 13.06.2026\n\nmehr Informationen unter http://pages.
 destination.one/de/coburg-rennsteig/streaming/detail/Event/coburgrennsteig
 event_23266/coburg-liest-2026
DTEND;TZID=Europe/Berlin:20260430T194500
DTSTAMP:20260420T090641Z
DTSTART;TZID=Europe/Berlin:20260430T193000
GEO:50.257918;10.964312
LOCATION:Coburg\, \, Coburg
ORGANIZER;CN=Coburg liest! / vhs-Coburg:mailto:info@vhs-coburg.de
SEQUENCE:0
SUMMARY:Coburg liest! 2026
UID:coburgrennsteigevent_23266_iv5
URL:http://pages.destination.one/de/coburg-rennsteig/streaming/detail/Event
 /coburgrennsteigevent_23266/coburg-liest-2026
END:VEVENT
BEGIN:VEVENT
CATEGORIES:Unterhaltung
CATEGORIES:Vortrag/Literatur
DESCRIPTION:24.04. bis 13.06.2026\n\nmehr Informationen unter http://pages.
 destination.one/de/coburg-rennsteig/streaming/detail/Event/coburgrennsteig
 event_23266/coburg-liest-2026
DTEND;TZID=Europe/Berlin:20260504T191500
DTSTAMP:20260420T090641Z
DTSTART;TZID=Europe/Berlin:20260504T190000
GEO:50.257918;10.964312
LOCATION:Coburg\, \, Coburg
ORGANIZER;CN=Coburg liest! / vhs-Coburg:mailto:info@vhs-coburg.de
SEQUENCE:0
SUMMARY:Coburg liest! 2026
UID:coburgrennsteigevent_23266_iv6
URL:http://pages.destination.one/de/coburg-rennsteig/streaming/detail/Event
 /coburgrennsteigevent_23266/coburg-liest-2026
END:VEVENT
BEGIN:VEVENT
CATEGORIES:Unterhaltung
CATEGORIES:Vortrag/Literatur
DESCRIPTION:24.04. bis 13.06.2026\n\nmehr Informationen unter http://pages.
 destination.one/de/coburg-rennsteig/streaming/detail/Event/coburgrennsteig
 event_23266/coburg-liest-2026
DTEND;TZID=Europe/Berlin:20260511T191500
DTSTAMP:20260420T090641Z
DTSTART;TZID=Europe/Berlin:20260511T190000
GEO:50.257918;10.964312
LOCATION:Coburg\, \, Coburg
ORGANIZER;CN=Coburg liest! / vhs-Coburg:mailto:info@vhs-coburg.de
SEQUENCE:0
SUMMARY:Coburg liest! 2026
UID:coburgrennsteigevent_23266_iv7
URL:http://pages.destination.one/de/coburg-rennsteig/streaming/detail/Event
 /coburgrennsteigevent_23266/coburg-liest-2026
END:VEVENT
BEGIN:VEVENT
CATEGORIES:Unterhaltung
CATEGORIES:Vortrag/Literatur
DESCRIPTION:24.04. bis 13.06.2026\n\nmehr Informationen unter http://pages.
 destination.one/de/coburg-rennsteig/streaming/detail/Event/coburgrennsteig
 event_23266/coburg-liest-2026
DTEND;TZID=Europe/Berlin:20260612T161500
DTSTAMP:20260420T090641Z
DTSTART;TZID=Europe/Berlin:20260612T160000
GEO:50.257918;10.964312
LOCATION:Coburg\, \, Coburg
ORGANIZER;CN=Coburg liest! / vhs-Coburg:mailto:info@vhs-coburg.de
SEQUENCE:0
SUMMARY:Coburg liest! 2026
UID:coburgrennsteigevent_23266_iv8
URL:http://pages.destination.one/de/coburg-rennsteig/streaming/detail/Event
 /coburgrennsteigevent_23266/coburg-liest-2026
END:VEVENT
BEGIN:VEVENT
CATEGORIES:Unterhaltung
CATEGORIES:Vortrag/Literatur
DESCRIPTION:24.04. bis 13.06.2026\n\nmehr Informationen unter http://pages.
 destination.one/de/coburg-rennsteig/streaming/detail/Event/coburgrennsteig
 event_23266/coburg-liest-2026
DTEND;TZID=Europe/Berlin:20260613T191500
DTSTAMP:20260420T090641Z
DTSTART;TZID=Europe/Berlin:20260613T190000
GEO:50.257918;10.964312
LOCATION:Coburg\, \, Coburg
ORGANIZER;CN=Coburg liest! / vhs-Coburg:mailto:info@vhs-coburg.de
SEQUENCE:0
SUMMARY:Coburg liest! 2026
UID:coburgrennsteigevent_23266_iv9
URL:http://pages.destination.one/de/coburg-rennsteig/streaming/detail/Event
 /coburgrennsteigevent_23266/coburg-liest-2026
END:VEVENT
BEGIN:VTIMEZONE
TZID:Europe/Berlin
X-LIC-LOCATION:Europe/Berlin
BEGIN:DAYLIGHT
DTSTART:19700329T020000
RRULE:FREQ=YEARLY;BYDAY=-1SU;BYMONTH=3
TZNAME:CEST
TZOFFSETFROM:+0100
TZOFFSETTO:+0200
END:DAYLIGHT
BEGIN:STANDARD
DTSTART:19701025T030000
RRULE:FREQ=YEARLY;BYDAY=-1SU;BYMONTH=10
TZNAME:CET
TZOFFSETFROM:+0200
TZOFFSETTO:+0100
END:STANDARD
END:VTIMEZONE
END:VCALENDAR
