BEGIN:VCALENDAR
VERSION:2.0
PRODID:-//destination.one//NONSGML destination.meta API//DE
X-WR-CALDESC:A calendar powered by destination.meta
X-WR-CALNAME:coburg-rennsteig Kalender via destination.meta
BEGIN:VEVENT
CATEGORIES:Führungen/Wanderungen
DESCRIPTION:\n\nmehr Informationen unter http://pages.destination.one/de/co
 burg-rennsteig/streaming/detail/Event/coburgrennsteigevent_23263/gef-hrte-
 wanderung-geschleifte-orte-am-generalsblick
DTEND;TZID=Europe/Berlin:20260522T170000
DTSTAMP:20260424T082717Z
DTSTART;TZID=Europe/Berlin:20260522T130000
GEO:50.365221;11.087093
LOCATION:Wanderparkplatz Krummer Stein\, \, Frankenblick
ORGANIZER;CN=Stiftung Naturschutz Thüringen:mailto:kontakt@stiftung-natursc
 hutz-thueringen.de
SEQUENCE:0
SUMMARY:Geführte Wanderung: Geschleifte Orte am Generalsblick
UID:coburgrennsteigevent_23263_iv0
URL:http://pages.destination.one/de/coburg-rennsteig/streaming/detail/Event
 /coburgrennsteigevent_23263/gef-hrte-wanderung-geschleifte-orte-am-general
 sblick
END:VEVENT
BEGIN:VEVENT
CATEGORIES:Führungen/Wanderungen
DESCRIPTION:\n\nmehr Informationen unter http://pages.destination.one/de/co
 burg-rennsteig/streaming/detail/Event/coburgrennsteigevent_23263/gef-hrte-
 wanderung-geschleifte-orte-am-generalsblick
DTEND;TZID=Europe/Berlin:20260919T170000
DTSTAMP:20260424T082717Z
DTSTART;TZID=Europe/Berlin:20260919T130000
GEO:50.365221;11.087093
LOCATION:Wanderparkplatz Krummer Stein\, \, Frankenblick
ORGANIZER;CN=Stiftung Naturschutz Thüringen:mailto:kontakt@stiftung-natursc
 hutz-thueringen.de
SEQUENCE:0
SUMMARY:Geführte Wanderung: Geschleifte Orte am Generalsblick
UID:coburgrennsteigevent_23263_iv1
URL:http://pages.destination.one/de/coburg-rennsteig/streaming/detail/Event
 /coburgrennsteigevent_23263/gef-hrte-wanderung-geschleifte-orte-am-general
 sblick
END:VEVENT
BEGIN:VTIMEZONE
TZID:Europe/Berlin
X-LIC-LOCATION:Europe/Berlin
BEGIN:DAYLIGHT
DTSTART:19700329T020000
RRULE:FREQ=YEARLY;BYDAY=-1SU;BYMONTH=3
TZNAME:CEST
TZOFFSETFROM:+0100
TZOFFSETTO:+0200
END:DAYLIGHT
BEGIN:STANDARD
DTSTART:19701025T030000
RRULE:FREQ=YEARLY;BYDAY=-1SU;BYMONTH=10
TZNAME:CET
TZOFFSETFROM:+0200
TZOFFSETTO:+0100
END:STANDARD
END:VTIMEZONE
END:VCALENDAR
