BEGIN:VCALENDAR
VERSION:2.0
PRODID:-//destination.one//NONSGML destination.meta API//DE
X-WR-CALDESC:A calendar powered by destination.meta
X-WR-CALNAME:coburg-rennsteig Kalender via destination.meta
BEGIN:VEVENT
CATEGORIES:Familien
CATEGORIES:Führungen/Wanderungen
DESCRIPTION:\n\nmehr Informationen unter http://pages.destination.one/de/co
 burg-rennsteig/streaming/detail/Event/coburgrennsteigevent_23262/gef-hrte-
 wanderung-g-rsd-rfer-heide-zwischen-moor-und-wald
DTEND;TZID=Europe/Berlin:20260425T140000
DTSTAMP:20260422T090258Z
DTSTART;TZID=Europe/Berlin:20260425T100000
GEO:50.392418;10.922138
LOCATION:Gedenkstätte Innerdeutsche Grenze Eisfeld-Rottenbach\, Coburger St
 raße\, Eisfeld
ORGANIZER;CN=Stiftung Naturschutz Thüringen:mailto:kontakt@stiftung-natursc
 hutz-thueringen.de
SEQUENCE:0
SUMMARY:Geführte Wanderung: Görsdörfer Heide zwischen Moor und Wald
UID:coburgrennsteigevent_23262_iv0
URL:http://pages.destination.one/de/coburg-rennsteig/streaming/detail/Event
 /coburgrennsteigevent_23262/gef-hrte-wanderung-g-rsd-rfer-heide-zwischen-m
 oor-und-wald
END:VEVENT
BEGIN:VEVENT
CATEGORIES:Familien
CATEGORIES:Führungen/Wanderungen
DESCRIPTION:\n\nmehr Informationen unter http://pages.destination.one/de/co
 burg-rennsteig/streaming/detail/Event/coburgrennsteigevent_23262/gef-hrte-
 wanderung-g-rsd-rfer-heide-zwischen-moor-und-wald
DTEND;TZID=Europe/Berlin:20260829T140000
DTSTAMP:20260422T090258Z
DTSTART;TZID=Europe/Berlin:20260829T100000
GEO:50.392418;10.922138
LOCATION:Gedenkstätte Innerdeutsche Grenze Eisfeld-Rottenbach\, Coburger St
 raße\, Eisfeld
ORGANIZER;CN=Stiftung Naturschutz Thüringen:mailto:kontakt@stiftung-natursc
 hutz-thueringen.de
SEQUENCE:0
SUMMARY:Geführte Wanderung: Görsdörfer Heide zwischen Moor und Wald
UID:coburgrennsteigevent_23262_iv1
URL:http://pages.destination.one/de/coburg-rennsteig/streaming/detail/Event
 /coburgrennsteigevent_23262/gef-hrte-wanderung-g-rsd-rfer-heide-zwischen-m
 oor-und-wald
END:VEVENT
BEGIN:VTIMEZONE
TZID:Europe/Berlin
X-LIC-LOCATION:Europe/Berlin
BEGIN:DAYLIGHT
DTSTART:19700329T020000
RRULE:FREQ=YEARLY;BYDAY=-1SU;BYMONTH=3
TZNAME:CEST
TZOFFSETFROM:+0100
TZOFFSETTO:+0200
END:DAYLIGHT
BEGIN:STANDARD
DTSTART:19701025T030000
RRULE:FREQ=YEARLY;BYDAY=-1SU;BYMONTH=10
TZNAME:CET
TZOFFSETFROM:+0200
TZOFFSETTO:+0100
END:STANDARD
END:VTIMEZONE
END:VCALENDAR
