BEGIN:VCALENDAR
VERSION:2.0
PRODID:-//destination.one//NONSGML destination.meta API//DE
X-WR-CALDESC:A calendar powered by destination.meta
X-WR-CALNAME:coburg-rennsteig Kalender via destination.meta
BEGIN:VEVENT
CATEGORIES:Führungen/Wanderungen
CATEGORIES:Termine
DESCRIPTION:\n\nmehr Informationen unter http://pages.destination.one/de/co
 burg-rennsteig/streaming/detail/Event/coburgrennsteigevent_23261/aktuelle-
 kunst-in-coburg
DTEND;TZID=Europe/Berlin:20260503T170000
DTSTAMP:20260424T083621Z
DTSTART;TZID=Europe/Berlin:20260503T150000
GEO:50.276468;10.992907
LOCATION:Kulturfabrik Cortendorf\, Gärtnersleite 20\, Coburg
ORGANIZER;CN=VHS Coburg:mailto:info@vhs-coburg.de
SEQUENCE:0
SUMMARY: Aktuelle Kunst in Coburg
UID:coburgrennsteigevent_23261_iv0
URL:http://pages.destination.one/de/coburg-rennsteig/streaming/detail/Event
 /coburgrennsteigevent_23261/aktuelle-kunst-in-coburg
END:VEVENT
BEGIN:VTIMEZONE
TZID:Europe/Berlin
X-LIC-LOCATION:Europe/Berlin
BEGIN:DAYLIGHT
DTSTART:19700329T020000
RRULE:FREQ=YEARLY;BYDAY=-1SU;BYMONTH=3
TZNAME:CEST
TZOFFSETFROM:+0100
TZOFFSETTO:+0200
END:DAYLIGHT
BEGIN:STANDARD
DTSTART:19701025T030000
RRULE:FREQ=YEARLY;BYDAY=-1SU;BYMONTH=10
TZNAME:CET
TZOFFSETFROM:+0200
TZOFFSETTO:+0100
END:STANDARD
END:VTIMEZONE
END:VCALENDAR
