BEGIN:VCALENDAR
VERSION:2.0
PRODID:-//destination.one//NONSGML destination.meta API//DE
X-WR-CALDESC:A calendar powered by destination.meta
X-WR-CALNAME:coburg-rennsteig Kalender via destination.meta
BEGIN:VEVENT
CATEGORIES:Termine
CATEGORIES:Vortrag/Literatur
CATEGORIES:Weitere Themen
DESCRIPTION:\n\nmehr Informationen unter http://pages.destination.one/de/co
 burg-rennsteig/streaming/detail/Event/coburgrennsteigevent_23259/konzertle
 sung-mit-dr-sarah-straub
DTEND;TZID=Europe/Berlin:20260423T203000
DTSTAMP:20260422T102220Z
DTSTART;TZID=Europe/Berlin:20260423T190000
GEO:50.217259;10.933415
LOCATION:Schloss Hohenstein\, Hohenstein 1\, Ahorn
ORGANIZER;CN=Oskar-Hacker-Stiftung:https://www.oskar-hacker-stiftung.de/sti
 ftung
SEQUENCE:0
SUMMARY:Konzertlesung mit Dr. Sarah Straub
UID:coburgrennsteigevent_23259_iv0
URL:http://pages.destination.one/de/coburg-rennsteig/streaming/detail/Event
 /coburgrennsteigevent_23259/konzertlesung-mit-dr-sarah-straub
END:VEVENT
BEGIN:VTIMEZONE
TZID:Europe/Berlin
X-LIC-LOCATION:Europe/Berlin
BEGIN:DAYLIGHT
DTSTART:19700329T020000
RRULE:FREQ=YEARLY;BYDAY=-1SU;BYMONTH=3
TZNAME:CEST
TZOFFSETFROM:+0100
TZOFFSETTO:+0200
END:DAYLIGHT
BEGIN:STANDARD
DTSTART:19701025T030000
RRULE:FREQ=YEARLY;BYDAY=-1SU;BYMONTH=10
TZNAME:CET
TZOFFSETFROM:+0200
TZOFFSETTO:+0100
END:STANDARD
END:VTIMEZONE
END:VCALENDAR
