BEGIN:VCALENDAR
VERSION:2.0
PRODID:-//destination.one//NONSGML destination.meta API//DE
X-WR-CALDESC:A calendar powered by destination.meta
X-WR-CALNAME:coburg-rennsteig Kalender via destination.meta
BEGIN:VEVENT
CATEGORIES:Unterhaltung
CATEGORIES:Vortrag/Literatur
DESCRIPTION:\n\nmehr Informationen unter http://pages.destination.one/de/co
 burg-rennsteig/streaming/detail/Event/coburgrennsteigevent_23247/zwischen-
 den-zeilen
DTEND;TZID=Europe/Berlin:20260612T190000
DTSTAMP:20260421T082342Z
DTSTART;TZID=Europe/Berlin:20260612T160000
GEO:50.256990;10.963366
LOCATION:Atelier Christine Rechl\, Kleine Rosengasse 1\, Coburg
ORGANIZER;CN=Coburg liest! / vhs-Coburg:mailto:info@vhs-coburg.de
SEQUENCE:0
SUMMARY:Zwischen den Zeilen
UID:coburgrennsteigevent_23247_iv0
URL:http://pages.destination.one/de/coburg-rennsteig/streaming/detail/Event
 /coburgrennsteigevent_23247/zwischen-den-zeilen
END:VEVENT
BEGIN:VEVENT
CATEGORIES:Unterhaltung
CATEGORIES:Vortrag/Literatur
DESCRIPTION:\n\nmehr Informationen unter http://pages.destination.one/de/co
 burg-rennsteig/streaming/detail/Event/coburgrennsteigevent_23247/zwischen-
 den-zeilen
DTEND;TZID=Europe/Berlin:20260613T180000
DTSTAMP:20260421T082342Z
DTSTART;TZID=Europe/Berlin:20260613T100000
GEO:50.256990;10.963366
LOCATION:Atelier Christine Rechl\, Kleine Rosengasse 1\, Coburg
ORGANIZER;CN=Coburg liest! / vhs-Coburg:mailto:info@vhs-coburg.de
SEQUENCE:0
SUMMARY:Zwischen den Zeilen
UID:coburgrennsteigevent_23247_iv1
URL:http://pages.destination.one/de/coburg-rennsteig/streaming/detail/Event
 /coburgrennsteigevent_23247/zwischen-den-zeilen
END:VEVENT
BEGIN:VEVENT
CATEGORIES:Unterhaltung
CATEGORIES:Vortrag/Literatur
DESCRIPTION:\n\nmehr Informationen unter http://pages.destination.one/de/co
 burg-rennsteig/streaming/detail/Event/coburgrennsteigevent_23247/zwischen-
 den-zeilen
DTEND;TZID=Europe/Berlin:20260614T130000
DTSTAMP:20260421T082342Z
DTSTART;TZID=Europe/Berlin:20260614T100000
GEO:50.256990;10.963366
LOCATION:Atelier Christine Rechl\, Kleine Rosengasse 1\, Coburg
ORGANIZER;CN=Coburg liest! / vhs-Coburg:mailto:info@vhs-coburg.de
SEQUENCE:0
SUMMARY:Zwischen den Zeilen
UID:coburgrennsteigevent_23247_iv2
URL:http://pages.destination.one/de/coburg-rennsteig/streaming/detail/Event
 /coburgrennsteigevent_23247/zwischen-den-zeilen
END:VEVENT
BEGIN:VTIMEZONE
TZID:Europe/Berlin
X-LIC-LOCATION:Europe/Berlin
BEGIN:DAYLIGHT
DTSTART:19700329T020000
RRULE:FREQ=YEARLY;BYDAY=-1SU;BYMONTH=3
TZNAME:CEST
TZOFFSETFROM:+0100
TZOFFSETTO:+0200
END:DAYLIGHT
BEGIN:STANDARD
DTSTART:19701025T030000
RRULE:FREQ=YEARLY;BYDAY=-1SU;BYMONTH=10
TZNAME:CET
TZOFFSETFROM:+0200
TZOFFSETTO:+0100
END:STANDARD
END:VTIMEZONE
END:VCALENDAR
