BEGIN:VCALENDAR
VERSION:2.0
PRODID:-//destination.one//NONSGML destination.meta API//DE
X-WR-CALDESC:A calendar powered by destination.meta
X-WR-CALNAME:coburg-rennsteig Kalender via destination.meta
BEGIN:VEVENT
CATEGORIES:Familien
CATEGORIES:Vortrag/Literatur
DESCRIPTION:\n\nmehr Informationen unter http://pages.destination.one/de/co
 burg-rennsteig/streaming/detail/Event/coburgrennsteigevent_23239/coburg-li
 est-2026-carsten-sebastian-henn-liest
DTEND;TZID=Europe/Berlin:20260424T160000
DTSTAMP:20260421T082512Z
DTSTART;TZID=Europe/Berlin:20260424T150000
GEO:50.258640;10.964441
LOCATION:Buchhandlung Riemann\, Markt 9\, Coburg
ORGANIZER;CN=Coburg liest! / vhs-Coburg:mailto:info@vhs-coburg.de
SEQUENCE:0
SUMMARY:Coburg liest! 2026 - Carsten Sebastian Henn liest
UID:coburgrennsteigevent_23239_iv0
URL:http://pages.destination.one/de/coburg-rennsteig/streaming/detail/Event
 /coburgrennsteigevent_23239/coburg-liest-2026-carsten-sebastian-henn-liest
END:VEVENT
BEGIN:VTIMEZONE
TZID:Europe/Berlin
X-LIC-LOCATION:Europe/Berlin
BEGIN:DAYLIGHT
DTSTART:19700329T020000
RRULE:FREQ=YEARLY;BYDAY=-1SU;BYMONTH=3
TZNAME:CEST
TZOFFSETFROM:+0100
TZOFFSETTO:+0200
END:DAYLIGHT
BEGIN:STANDARD
DTSTART:19701025T030000
RRULE:FREQ=YEARLY;BYDAY=-1SU;BYMONTH=10
TZNAME:CET
TZOFFSETFROM:+0200
TZOFFSETTO:+0100
END:STANDARD
END:VTIMEZONE
END:VCALENDAR
