BEGIN:VCALENDAR
VERSION:2.0
PRODID:-//destination.one//NONSGML destination.meta API//DE
X-WR-CALDESC:A calendar powered by destination.meta
X-WR-CALNAME:coburg-rennsteig Kalender via destination.meta
BEGIN:VEVENT
CATEGORIES:Musik
CATEGORIES:Theater
CATEGORIES:Unterhaltung
DESCRIPTION:\n\nmehr Informationen unter http://pages.destination.one/de/co
 burg-rennsteig/streaming/detail/Event/coburgrennsteigevent_23148/l-elisir-
 d-amore
DTEND;TZID=Europe/Berlin:20260613T223000
DTSTAMP:20260420T090613Z
DTSTART;TZID=Europe/Berlin:20260613T193000
GEO:50.255698;10.955082
LOCATION:GLOBE Coburg\, Nina-Bellosa-Platz 1\, Coburg
ORGANIZER;CN=Landestheater Coburg:mailto:info@landestheater.coburg.de
SEQUENCE:0
SUMMARY:L’elisir d’amore
UID:coburgrennsteigevent_23148_iv0
URL:http://pages.destination.one/de/coburg-rennsteig/streaming/detail/Event
 /coburgrennsteigevent_23148/l-elisir-d-amore
END:VEVENT
BEGIN:VTIMEZONE
TZID:Europe/Berlin
X-LIC-LOCATION:Europe/Berlin
BEGIN:DAYLIGHT
DTSTART:19700329T020000
RRULE:FREQ=YEARLY;BYDAY=-1SU;BYMONTH=3
TZNAME:CEST
TZOFFSETFROM:+0100
TZOFFSETTO:+0200
END:DAYLIGHT
BEGIN:STANDARD
DTSTART:19701025T030000
RRULE:FREQ=YEARLY;BYDAY=-1SU;BYMONTH=10
TZNAME:CET
TZOFFSETFROM:+0200
TZOFFSETTO:+0100
END:STANDARD
END:VTIMEZONE
END:VCALENDAR
