BEGIN:VCALENDAR
VERSION:2.0
PRODID:-//destination.one//NONSGML destination.meta API//DE
X-WR-CALDESC:A calendar powered by destination.meta
X-WR-CALNAME:coburg-rennsteig Kalender via destination.meta
BEGIN:VEVENT
CATEGORIES:Unterhaltung
CATEGORIES:Weitere Themen
CATEGORIES:Theater
DESCRIPTION:\n\nmehr Informationen unter http://pages.destination.one/de/co
 burg-rennsteig/streaming/detail/Event/coburgrennsteigevent_22083/das-krimi
 nal-dinner
DTEND;TZID=Europe/Berlin:20260502T223000
DTSTAMP:20260419T122551Z
DTSTART;TZID=Europe/Berlin:20260502T190000
GEO:50.259563;10.966042
LOCATION:Münchner Hofbräu\, Kleine Johannisgasse 8\, Coburg
ORGANIZER;CN=Engesser Marketing GmbH:mailto:info@engesser-marketing.de
SEQUENCE:0
SUMMARY:Das Kriminal Dinner
UID:coburgrennsteigevent_22083_iv0
URL:http://pages.destination.one/de/coburg-rennsteig/streaming/detail/Event
 /coburgrennsteigevent_22083/das-kriminal-dinner
END:VEVENT
BEGIN:VTIMEZONE
TZID:Europe/Berlin
X-LIC-LOCATION:Europe/Berlin
BEGIN:DAYLIGHT
DTSTART:19700329T020000
RRULE:FREQ=YEARLY;BYDAY=-1SU;BYMONTH=3
TZNAME:CEST
TZOFFSETFROM:+0100
TZOFFSETTO:+0200
END:DAYLIGHT
BEGIN:STANDARD
DTSTART:19701025T030000
RRULE:FREQ=YEARLY;BYDAY=-1SU;BYMONTH=10
TZNAME:CET
TZOFFSETFROM:+0200
TZOFFSETTO:+0100
END:STANDARD
END:VTIMEZONE
END:VCALENDAR
