BEGIN:VCALENDAR
VERSION:2.0
PRODID:-//destination.one//NONSGML destination.meta API//DE
X-WR-CALDESC:A calendar powered by destination.meta
X-WR-CALNAME:coburg-rennsteig Kalender via destination.meta
BEGIN:VEVENT
CATEGORIES:Familien
CATEGORIES:Führungen/Wanderungen
CATEGORIES:Musik
CATEGORIES:Theater
CATEGORIES:Unterhaltung
DESCRIPTION:12. - 14.06.2026\n\nmehr Informationen unter http://pages.desti
 nation.one/de/coburg-rennsteig/streaming/detail/Event/coburgrennsteigevent
 _22001/sommer-im-park-2026
DTEND;TZID=Europe/Berlin:20260612T220000
DTSTAMP:20260420T085133Z
DTSTART;TZID=Europe/Berlin:20260612T193000
GEO:50.332606;11.114368
LOCATION:Freizeitpark „Villeneuve-sur-Lot“\, Am Moos 28\, Neustadt b. Cobur
 g
ORGANIZER;CN=Stadt Neustadt b. Coburg:mailto:andre.roettger@neustadt-bei-co
 burg.de
SEQUENCE:0
SUMMARY:Sommer im Park 2026
UID:coburgrennsteigevent_22001_iv0
URL:http://pages.destination.one/de/coburg-rennsteig/streaming/detail/Event
 /coburgrennsteigevent_22001/sommer-im-park-2026
END:VEVENT
BEGIN:VEVENT
CATEGORIES:Familien
CATEGORIES:Führungen/Wanderungen
CATEGORIES:Musik
CATEGORIES:Theater
CATEGORIES:Unterhaltung
DESCRIPTION:12. - 14.06.2026\n\nmehr Informationen unter http://pages.desti
 nation.one/de/coburg-rennsteig/streaming/detail/Event/coburgrennsteigevent
 _22001/sommer-im-park-2026
DTEND;TZID=Europe/Berlin:20260613T161500
DTSTAMP:20260420T085133Z
DTSTART;TZID=Europe/Berlin:20260613T160000
GEO:50.332606;11.114368
LOCATION:Freizeitpark „Villeneuve-sur-Lot“\, Am Moos 28\, Neustadt b. Cobur
 g
ORGANIZER;CN=Stadt Neustadt b. Coburg:mailto:andre.roettger@neustadt-bei-co
 burg.de
SEQUENCE:0
SUMMARY:Sommer im Park 2026
UID:coburgrennsteigevent_22001_iv1
URL:http://pages.destination.one/de/coburg-rennsteig/streaming/detail/Event
 /coburgrennsteigevent_22001/sommer-im-park-2026
END:VEVENT
BEGIN:VEVENT
CATEGORIES:Familien
CATEGORIES:Führungen/Wanderungen
CATEGORIES:Musik
CATEGORIES:Theater
CATEGORIES:Unterhaltung
DESCRIPTION:12. - 14.06.2026\n\nmehr Informationen unter http://pages.desti
 nation.one/de/coburg-rennsteig/streaming/detail/Event/coburgrennsteigevent
 _22001/sommer-im-park-2026
DTEND;TZID=Europe/Berlin:20260614T210000
DTSTAMP:20260420T085133Z
DTSTART;TZID=Europe/Berlin:20260614T110000
GEO:50.332606;11.114368
LOCATION:Freizeitpark „Villeneuve-sur-Lot“\, Am Moos 28\, Neustadt b. Cobur
 g
ORGANIZER;CN=Stadt Neustadt b. Coburg:mailto:andre.roettger@neustadt-bei-co
 burg.de
SEQUENCE:0
SUMMARY:Sommer im Park 2026
UID:coburgrennsteigevent_22001_iv2
URL:http://pages.destination.one/de/coburg-rennsteig/streaming/detail/Event
 /coburgrennsteigevent_22001/sommer-im-park-2026
END:VEVENT
BEGIN:VTIMEZONE
TZID:Europe/Berlin
X-LIC-LOCATION:Europe/Berlin
BEGIN:DAYLIGHT
DTSTART:19700329T020000
RRULE:FREQ=YEARLY;BYDAY=-1SU;BYMONTH=3
TZNAME:CEST
TZOFFSETFROM:+0100
TZOFFSETTO:+0200
END:DAYLIGHT
BEGIN:STANDARD
DTSTART:19701025T030000
RRULE:FREQ=YEARLY;BYDAY=-1SU;BYMONTH=10
TZNAME:CET
TZOFFSETFROM:+0200
TZOFFSETTO:+0100
END:STANDARD
END:VTIMEZONE
END:VCALENDAR
